BEGIN:VCALENDAR
PRODID:-//github.com/rianjs/ical.net//NONSGML ical.net 4.0//EN
VERSION:2.0
BEGIN:VTIMEZONE
TZID:America/Chicago
X-LIC-LOCATION:America/Chicago
BEGIN:STANDARD
DTSTART:20241103T020000
RRULE:FREQ=YEARLY;BYDAY=1SU;BYMONTH=11
TZNAME:CST
TZOFFSETFROM:-0500
TZOFFSETTO:-0600
END:STANDARD
BEGIN:DAYLIGHT
DTSTART:20250309T020000
RRULE:FREQ=YEARLY;BYDAY=2SU;BYMONTH=3
TZNAME:CDT
TZOFFSETFROM:-0600
TZOFFSETTO:-0500
END:DAYLIGHT
END:VTIMEZONE
BEGIN:VEVENT
CLASS:PUBLIC
CREATED:20260421T083847Z
DESCRIPTION:Register to attend this information session to learn more abou
 t the the Second Stage Company Grant Program or the SBIR/STTR Grant Progr
 am presented by the City of San Antonio Economic Development Department. 
 Information sessions are available to assist businesses who are intereste
 d in applying for the Second Stage Company Grant Program or the SBIR/STTR
  Grant Program. These info. sessions will explain details about each prog
 ram and will share guidance on how to apply for each program. Application
 s are encouraged to be filled out now so they may be submitted once the a
 pplication portal opens on Monday May 4. Information Session #2 Thursday 
 April 30 2026 12 - 1 p.m. REGISTER FOR INFO. SESSION #2\n https://saspeak
 up.com/V22848
DTEND;TZID=America/Chicago:20260430T130000
DTSTAMP:20260421T083847Z
DTSTART;TZID=America/Chicago:20260430T120000
LOCATION:
SEQUENCE:0
SUMMARY:INFO. SESSION #2 (Virtual): Second Stage Grant Program / SBIR/STTR
  Grant Program FY26
UID:4d4eac6a-2d75-4f7a-8100-b67f885ad19a
END:VEVENT
END:VCALENDAR
